BEGIN:VCALENDAR
VERSION:2.0
PRODID:-//chimoments - ECPv6.15.16//NONSGML v1.0//EN
CALSCALE:GREGORIAN
METHOD:PUBLISH
X-WR-CALNAME:chimoments
X-ORIGINAL-URL:https://chimoments.com
X-WR-CALDESC:Events for chimoments
REFRESH-INTERVAL;VALUE=DURATION:PT1H
X-Robots-Tag:noindex
X-PUBLISHED-TTL:PT1H
BEGIN:VTIMEZONE
TZID:America/Denver
BEGIN:DAYLIGHT
TZOFFSETFROM:-0700
TZOFFSETTO:-0600
TZNAME:MDT
DTSTART:20250309T090000
END:DAYLIGHT
BEGIN:STANDARD
TZOFFSETFROM:-0600
TZOFFSETTO:-0700
TZNAME:MST
DTSTART:20251102T080000
END:STANDARD
BEGIN:DAYLIGHT
TZOFFSETFROM:-0700
TZOFFSETTO:-0600
TZNAME:MDT
DTSTART:20260308T090000
END:DAYLIGHT
BEGIN:STANDARD
TZOFFSETFROM:-0600
TZOFFSETTO:-0700
TZNAME:MST
DTSTART:20261101T080000
END:STANDARD
BEGIN:DAYLIGHT
TZOFFSETFROM:-0700
TZOFFSETTO:-0600
TZNAME:MDT
DTSTART:20270314T090000
END:DAYLIGHT
BEGIN:STANDARD
TZOFFSETFROM:-0600
TZOFFSETTO:-0700
TZNAME:MST
DTSTART:20271107T080000
END:STANDARD
END:VTIMEZONE
BEGIN:VEVENT
DTSTART;TZID=America/Denver:20260217T190000
DTEND;TZID=America/Denver:20260217T203000
DTSTAMP:20260420T224159
CREATED:20251227T171058Z
LAST-MODIFIED:20260213T154217Z
UID:34193-1771354800-1771360200@chimoments.com
SUMMARY:Celebrating Chinese New Year
DESCRIPTION:THIS EVENT IS FULL — JOIN US NEXT YEAR!\nTuesday Evening\, February 17\, 7-8:30pm\n  \nJoin me for some predictive-insights of what the fire Horse has in mind for the collective in 2026. Please welcome my dear friend\, Heather will be creating sound for us this year. She is a co-host at my annual Women’s Qigong retreat\, and most recently the co-founder of The Vibe Hive. She’ll be playing the bowls\, while we practice some simple Qigong movements. \n \nInsights from Heather Troutman:\nMy sound journey began after attending my first sound bath with my bestie and learning I could get into a deep meditative state while being a participant.  After getting my first set of bowls\, I experienced pain relief in my hands and a way to deal with stress and anxiety. These experiences lead me and my bestie on a new adventure. Together we recently launched The Vibe Hive\, a sound and meditation business. You can follow us on the socials @TheVibeHiveSLC \n  \nWhat to Expect: \n\nCollective Insights for 2026: Together\, we’ll explore the energies of the Horse and the Fire Element—the perfect foundation for growth\, creative action\, and transformation. This sacred circle discussion will offer insights on how we can harness these energies to make 2026 a year of collective and personal growth.\nQigong & Crystal Bowl Sound Healing: Heather will be guiding us through a transformative Qigong practice infused with the healing sounds of crystal bowls. The sound will work its magic\, harmonizing with our energy and helping us connect deeply to the present moment and the transformative potential of the year ahead.\nHandouts: Take home a handout with practical suggestions for harnessing the energy of 2026\, offering ways to manifest the growth and transformation.\nRed Envelope for Prosperity: In honor of Chinese New Year\, each participant will receive a red envelope symbolizing prosperity\, abundance\, and good fortune as we step into the Horse Year.\n\n  \nDetails & Payment: \n\nCost: $35 per person\nLimited to 22 Souls: This intimate gathering is limited to 20 participants\, so secure your spot today!\nPay via card or PayPal by clicking the “Join Us” button below.\nOr send payment via Venmo: Toni-Lock\n\n  \nWhat to Bring: Wear comfortable clothes for movement and bring a water bottle\, maybe a journal and pen.
URL:https://chimoments.com/event/celebrating-chinese-new-year/
LOCATION:Vitalize Studio\, 3474 South 2300 East #12\, Millcreek\, 84108\, United States
CATEGORIES:Events
ATTACH;FMTTYPE=image/png:https://chimoments.com/wp-content/uploads/2025/12/Fire-horse.png
END:VEVENT
END:VCALENDAR